BEGIN:VCALENDAR
VERSION:2.0
PRODID:spatie/icalendar-generator
DESCRIPTION:Events from Saugeen First Nation
X-WR-CALDESC:Events from Saugeen First Nation
REFRESH-INTERVAL;VALUE=DURATION:PT1440M
X-PUBLISHED-TTL:PT1440M
BEGIN:VTIMEZONE
TZID:America/Toronto
BEGIN:STANDARD
DTSTART:20251102T020000Z
TZOFFSETFROM:-0400
TZOFFSETTO:-0500
END:STANDARD
BEGIN:DAYLIGHT
DTSTART:20260308T020000Z
TZOFFSETFROM:-0500
TZOFFSETTO:-0400
END:DAYLIGHT
BEGIN:STANDARD
DTSTART:20261101T020000Z
TZOFFSETFROM:-0400
TZOFFSETTO:-0500
END:STANDARD
END:VTIMEZONE
BEGIN:VTIMEZONE
TZID:UTC
BEGIN:STANDARD
DTSTART:20250725T103637Z
TZOFFSETFROM:+0000
TZOFFSETTO:+0000
END:STANDARD
END:VTIMEZONE
BEGIN:VEVENT
UID:104-83
DTSTAMP:20260421T103637Z
SUMMARY:8th Annual Saugeen Foodbank Golf Tournament
LOCATION:
ORGANIZER;CN=Justine Kaufman:MAILTO:justine.kaufman@saugeen.org
DTSTART;TZID=America/Toronto:20260619T090000
DTEND;TZID=America/Toronto:20260619T170000
X-ALT-DESC;FMTTYPE=TEXT/HTML:Saugeen Foodbank 8th Annual Charity Golf Tourn
 ament at Saugeen Golf Course $800/team  or $250/player Lunch\, dinner &amp;am
 p\; cart included Registration deadline\, June 5th erin.kewaquom@saugeen.o
 rg
CATEGORIES:Community Event
URL;VALUE=URI:https://saugeenfirstnation.com/mc-events/8th-annual-saugeen-f
 oodbank-golf-tournament/
METHOD:PUBLISH
END:VEVENT
END:VCALENDAR