BEGIN:VCALENDAR
VERSION:2.0
PRODID:spatie/icalendar-generator
DESCRIPTION:Events from Saugeen First Nation
X-WR-CALDESC:Events from Saugeen First Nation
REFRESH-INTERVAL;VALUE=DURATION:PT1440M
X-PUBLISHED-TTL:PT1440M
BEGIN:VTIMEZONE
TZID:America/Toronto
BEGIN:DAYLIGHT
DTSTART:20260308T020000Z
TZOFFSETFROM:-0500
TZOFFSETTO:-0400
END:DAYLIGHT
BEGIN:STANDARD
DTSTART:20261101T020000Z
TZOFFSETFROM:-0400
TZOFFSETTO:-0500
END:STANDARD
END:VTIMEZONE
BEGIN:VTIMEZONE
TZID:UTC
BEGIN:STANDARD
DTSTART:20250724T160523Z
TZOFFSETFROM:+0000
TZOFFSETTO:+0000
END:STANDARD
END:VTIMEZONE
BEGIN:VEVENT
UID:99-78
DTSTAMP:20260420T160523Z
SUMMARY:Community Deputation Days
LOCATION:Governance Office  6 Cameron Dr.   Southampton  ON N0H2L0
ORGANIZER;CN=Justine Kaufman:MAILTO:justine.kaufman@saugeen.org
DTSTART;TZID=America/Toronto:20260819T170000
DTEND;TZID=America/Toronto:20260819T200000
X-ALT-DESC;FMTTYPE=TEXT/HTML:Guidlines:  Individuals wishing to make a dep
 utation must submit their request\, reasons for their deputation\, and any
  supporting documentation to the Executive assistant to Chief and Council 
 no later than five (5) days prior to regularly scheduled meeting for deput
 ations. You will conduct yourself in a professional manner. Each person wi
 ll have ten (10) minute&amp;hellip\;
CATEGORIES:Members Only
URL;VALUE=URI:https://saugeenfirstnation.com/mc-events/community-deputation
 -days-10/
METHOD:PUBLISH
END:VEVENT
END:VCALENDAR